BEGIN:VCALENDAR
VERSION:2.0
PRODID:-//wp-events-plugin.com//7.2.3.1//EN
BEGIN:VEVENT
UID:2@techxevents.com
DTSTART:20240207T083000Z
DTEND:20240207T140000Z
DTSTAMP:20240220T090656Z
URL:https://techxevents.com/events/ocr2017/
SUMMARY:OCR2017
DESCRIPTION:The original\, innovative Operation Convergent Response (OCR) i
 n June 2017 at the Guardian Centers in Perry\, GA. An experiential events 
 disruptor\, OCR2017 was the first to uniquely demonstrate the power of 30+
  technology solutions at the moment of crisis in live-action scenarios.
ATTACH;FMTTYPE=image/jpeg:https://techxevents.com/wp-content/uploads/2024/
 01/service-img5.jpeg
END:VEVENT
END:VCALENDAR